BEGIN:VCALENDAR
VERSION:2.0
PRODID:-//PlatteRepublicans.org - ECPv6.15.13.1//NONSGML v1.0//EN
CALSCALE:GREGORIAN
METHOD:PUBLISH
X-ORIGINAL-URL:https://www.platterepublicans.org
X-WR-CALDESC:Events for PlatteRepublicans.org
REFRESH-INTERVAL;VALUE=DURATION:PT1H
X-Robots-Tag:noindex
X-PUBLISHED-TTL:PT1H
BEGIN:VTIMEZONE
TZID:America/Chicago
BEGIN:DAYLIGHT
TZOFFSETFROM:-0600
TZOFFSETTO:-0500
TZNAME:CDT
DTSTART:20090308T080000
END:DAYLIGHT
BEGIN:STANDARD
TZOFFSETFROM:-0500
TZOFFSETTO:-0600
TZNAME:CST
DTSTART:20091101T070000
END:STANDARD
BEGIN:DAYLIGHT
TZOFFSETFROM:-0600
TZOFFSETTO:-0500
TZNAME:CDT
DTSTART:20100314T080000
END:DAYLIGHT
BEGIN:STANDARD
TZOFFSETFROM:-0500
TZOFFSETTO:-0600
TZNAME:CST
DTSTART:20101107T070000
END:STANDARD
BEGIN:DAYLIGHT
TZOFFSETFROM:-0600
TZOFFSETTO:-0500
TZNAME:CDT
DTSTART:20110313T080000
END:DAYLIGHT
BEGIN:STANDARD
TZOFFSETFROM:-0500
TZOFFSETTO:-0600
TZNAME:CST
DTSTART:20111106T070000
END:STANDARD
END:VTIMEZONE
BEGIN:VEVENT
DTSTART;TZID=America/Chicago:20101021T083000
DTEND;TZID=America/Chicago:20101021T093000
DTSTAMP:20260419T110123
CREATED:20101019T111650Z
LAST-MODIFIED:20200708T224935Z
UID:8806-1287649800-1287653400@www.platterepublicans.org
SUMMARY:LT GOV Peter Kinder - Nick Marshall Breakfast
DESCRIPTION:Come join LT GOV Peter Kinder at a breakfast fundraiser for Nick Marshall\, Candidate 30th Missouri House District\, 0830 at Larry and Nancy Womack’s Northridge Farm\, 7921 NW 73rd Street\, Kansas City\, MO … event catered by Shields Manor Bistro.  Please consider $100 donation.  All contributions welcomed.  RSVP to Elliott Houghton via email:  EHoughton@ElectNickMarshall.com or call 816.377.3594
URL:https://www.platterepublicans.org/event/lt-gov-peter-kinder-nick-marshall-breakfast/
LOCATION:MO
CATEGORIES:Platte County GOP News
END:VEVENT
BEGIN:VEVENT
DTSTART;TZID=America/Chicago:20101021T113000
DTEND;TZID=America/Chicago:20101021T123000
DTSTAMP:20260419T110123
CREATED:20101019T113150Z
LAST-MODIFIED:20200708T224935Z
UID:8807-1287660600-1287664200@www.platterepublicans.org
SUMMARY:LT GOV Peter Kinder Fundraiser for Galen Higdon
DESCRIPTION:Join LT GOV Peter Kinder at a fundraiser for Galen Higdon\, Candidate for State Rep 29th District (NW Platte County and Southern Buchanan County) at 1130 at Little Boudreaux’s at the Bucket 5225 Lake Ave\, St Joseph\, MO  64504 (816) 749-4105.
URL:https://www.platterepublicans.org/event/lt-gov-peter-kinder-fundraiser-for-galen-higdon/
LOCATION:MO
CATEGORIES:Platte County GOP News
END:VEVENT
BEGIN:VEVENT
DTSTART;TZID=America/Chicago:20101026T171500
DTEND;TZID=America/Chicago:20101026T181500
DTSTAMP:20260419T110123
CREATED:20101019T120805Z
LAST-MODIFIED:20200708T224935Z
UID:8808-1288113300-1288116900@www.platterepublicans.org
SUMMARY:Roy Blunt Campaign Rally in Platte County
DESCRIPTION:Congressman Roy Blunt\, candidate for US Senate\, is making a campaign stop in Platte County.  Rally at the Little Reata 5:15 pm; bring friends and family to Dana and Doug Babcock’s farm (SE corner of Hwy N and NW 136th Street).  Let’s get 75 to 100 people there to show support.
URL:https://www.platterepublicans.org/event/roy-blunt-campaign-rally-in-platte-county/
LOCATION:MO
CATEGORIES:Platte County GOP News
END:VEVENT
BEGIN:VEVENT
DTSTART;TZID=America/Chicago:20101030T090000
DTEND;TZID=America/Chicago:20101030T180000
DTSTAMP:20260419T110123
CREATED:20101019T121654Z
LAST-MODIFIED:20200708T224936Z
UID:8810-1288429200-1288461600@www.platterepublicans.org
SUMMARY:BIG SATURDAY
DESCRIPTION:VOLUNTEER to go door-to-door for Campaign Season’s final Get Out The Vote (GOTV) effort or make phone calls at the Headquarters.  Call the PC GOP HQ (816) 505-1994 to sign up for 9 a.m. to noon\, noon to 3 p.m.\, or 3 p.m. to 6 p.m.
URL:https://www.platterepublicans.org/event/big-saturday/
LOCATION:MO
CATEGORIES:Calendar,Platte County GOP News
END:VEVENT
END:VCALENDAR