BEGIN:VCALENDAR
VERSION:2.0
PRODID:-//PlatteRepublicans.org - ECPv6.15.13.1//NONSGML v1.0//EN
CALSCALE:GREGORIAN
METHOD:PUBLISH
X-ORIGINAL-URL:https://www.platterepublicans.org
X-WR-CALDESC:Events for PlatteRepublicans.org
REFRESH-INTERVAL;VALUE=DURATION:PT1H
X-Robots-Tag:noindex
X-PUBLISHED-TTL:PT1H
BEGIN:VTIMEZONE
TZID:America/Chicago
BEGIN:DAYLIGHT
TZOFFSETFROM:-0600
TZOFFSETTO:-0500
TZNAME:CDT
DTSTART:20250309T080000
END:DAYLIGHT
BEGIN:STANDARD
TZOFFSETFROM:-0500
TZOFFSETTO:-0600
TZNAME:CST
DTSTART:20251102T070000
END:STANDARD
BEGIN:DAYLIGHT
TZOFFSETFROM:-0600
TZOFFSETTO:-0500
TZNAME:CDT
DTSTART:20260308T080000
END:DAYLIGHT
BEGIN:STANDARD
TZOFFSETFROM:-0500
TZOFFSETTO:-0600
TZNAME:CST
DTSTART:20261101T070000
END:STANDARD
BEGIN:DAYLIGHT
TZOFFSETFROM:-0600
TZOFFSETTO:-0500
TZNAME:CDT
DTSTART:20270314T080000
END:DAYLIGHT
BEGIN:STANDARD
TZOFFSETFROM:-0500
TZOFFSETTO:-0600
TZNAME:CST
DTSTART:20271107T070000
END:STANDARD
END:VTIMEZONE
BEGIN:VEVENT
DTSTART;TZID=America/Chicago:20260202T190000
DTEND;TZID=America/Chicago:20260202T200000
DTSTAMP:20260422T180910
CREATED:20260106T044228Z
LAST-MODIFIED:20260106T044228Z
UID:11136-1770058800-1770062400@www.platterepublicans.org
SUMMARY:PCRCC Monthly Meeting
DESCRIPTION:
URL:https://www.platterepublicans.org/event/pcrcc-monthly-meeting-53/
LOCATION:The Park Place\, 160 English Landing Dr\, Parkville\, MO\, 64152\, United States
END:VEVENT
BEGIN:VEVENT
DTSTART;TZID=America/Chicago:20260302T190000
DTEND;TZID=America/Chicago:20260302T200000
DTSTAMP:20260422T180910
CREATED:20260228T233327Z
LAST-MODIFIED:20260228T233327Z
UID:11138-1772478000-1772481600@www.platterepublicans.org
SUMMARY:Platte County Republican Central Committee
DESCRIPTION:
URL:https://www.platterepublicans.org/event/platte-county-republican-central-committee/
LOCATION:The Park Place\, 160 English Landing Dr\, Parkville\, MO\, 64152\, United States
END:VEVENT
BEGIN:VEVENT
DTSTART;TZID=America/Chicago:20260311T180000
DTEND;TZID=America/Chicago:20260311T200000
DTSTAMP:20260422T180911
CREATED:20260307T232825Z
LAST-MODIFIED:20260307T232825Z
UID:11179-1773252000-1773259200@www.platterepublicans.org
SUMMARY:Republican Town Hall
DESCRIPTION:
URL:https://www.platterepublicans.org/event/republican-town-hall/
LOCATION:The Olde Mill Emporium\, 168 English Landing Dr\, Parkville\, MO\, 64152\, United States
END:VEVENT
BEGIN:VEVENT
DTSTART;TZID=America/Chicago:20260331T180000
DTEND;TZID=America/Chicago:20260331T200000
DTSTAMP:20260422T180911
CREATED:20260308T215914Z
LAST-MODIFIED:20260308T215914Z
UID:11183-1774980000-1774987200@www.platterepublicans.org
SUMMARY:Nathan Willett Campaign Season Kickoff
DESCRIPTION:
URL:https://www.platterepublicans.org/event/nathan-willett-campaign-season-kickoff/
LOCATION:First Creek Farm\, 11602 US-169S\, Kansas City\, MO\, 64165\, United States
END:VEVENT
BEGIN:VEVENT
DTSTART;TZID=America/Chicago:20260409T180000
DTEND;TZID=America/Chicago:20260409T200000
DTSTAMP:20260422T180911
CREATED:20260307T232456Z
LAST-MODIFIED:20260308T235418Z
UID:11173-1775757600-1775764800@www.platterepublicans.org
SUMMARY:Mary Calvillo Campaign Kickoff
DESCRIPTION:
URL:https://www.platterepublicans.org/event/mary-calvillo-campaign-kick-off-and-fundraiser/
LOCATION:The Olde Mill Emporium\, 168 English Landing Dr\, Parkville\, MO\, 64152\, United States
END:VEVENT
BEGIN:VEVENT
DTSTART;TZID=America/Chicago:20260417T180000
DTEND;TZID=America/Chicago:20260417T210000
DTSTAMP:20260422T180911
CREATED:20260307T200647Z
LAST-MODIFIED:20260307T200647Z
UID:11159-1776448800-1776459600@www.platterepublicans.org
SUMMARY:Lincoln- Reagan Dinner w/Keynote Speaker AG Catherine Hanaway
DESCRIPTION:
URL:https://www.platterepublicans.org/event/lincoln-reagan-dinner-w-keynote-speaker-ag-catherine-hanaway/
LOCATION:The Olde Mill Emporium\, 168 English Landing Dr\, Parkville\, MO\, 64152\, United States
END:VEVENT
BEGIN:VEVENT
DTSTART;TZID=America/Chicago:20260420T180000
DTEND;TZID=America/Chicago:20260420T203000
DTSTAMP:20260422T180911
CREATED:20260418T200430Z
LAST-MODIFIED:20260418T201150Z
UID:11208-1776708000-1776717000@www.platterepublicans.org
SUMMARY:Platte County Federated Women
DESCRIPTION:
URL:https://www.platterepublicans.org/event/platte-county-federated-women/
LOCATION:10015 N Ambassador Dr\, Kansas City\, MO 64153\, 10015 N Ambassador Dr\, Kansas City\, MO\, 65153\, United States
END:VEVENT
BEGIN:VEVENT
DTSTART;TZID=America/Chicago:20260430T170000
DTEND;TZID=America/Chicago:20260430T190000
DTSTAMP:20260422T180911
CREATED:20260420T160535Z
LAST-MODIFIED:20260420T160535Z
UID:11212-1777568400-1777575600@www.platterepublicans.org
SUMMARY:Laura Waldon Campaign Launch Party
DESCRIPTION:
URL:https://www.platterepublicans.org/event/laura-waldon-campaign-launch-party/
LOCATION:7701 N Shannon Ave\, Kansas City\,MO 64152\, 7701 N Shannon Ave\, Kansas City\, MO\, 64152\, United States
END:VEVENT
BEGIN:VEVENT
DTSTART;TZID=America/Chicago:20260504T190000
DTEND;TZID=America/Chicago:20260504T203000
DTSTAMP:20260422T180911
CREATED:20260418T194653Z
LAST-MODIFIED:20260418T194653Z
UID:11203-1777921200-1777926600@www.platterepublicans.org
SUMMARY:May Central Committee Meeting
DESCRIPTION:
URL:https://www.platterepublicans.org/event/may-central-committee-meeting/
LOCATION:The Olde Mill Emporium\, 168 English Landing Dr\, Parkville\, MO\, 64152\, United States
END:VEVENT
BEGIN:VEVENT
DTSTART;TZID=America/Chicago:20260514T180000
DTEND;TZID=America/Chicago:20260514T200000
DTSTAMP:20260422T180911
CREATED:20260418T194956Z
LAST-MODIFIED:20260418T194956Z
UID:11205-1778781600-1778788800@www.platterepublicans.org
SUMMARY:Northland Pachyderm May Meeting
DESCRIPTION:
URL:https://www.platterepublicans.org/event/northland-pachyderm-may-meeting/
LOCATION:Staley Golf Club\, 10310 N Olive\, Kansas City\, MO\, 64155\, United States
ORGANIZER;CN="Northland Pachyderms":MAILTO:claycountypachyderms@gmail.com
END:VEVENT
BEGIN:VEVENT
DTSTART;TZID=America/Chicago:20260518T180000
DTEND;TZID=America/Chicago:20260518T203000
DTSTAMP:20260422T180911
CREATED:20260418T201824Z
LAST-MODIFIED:20260418T201844Z
UID:11210-1779127200-1779136200@www.platterepublicans.org
SUMMARY:PCFRW
DESCRIPTION:
URL:https://www.platterepublicans.org/event/pcfrw/
LOCATION:10015 N Ambassador Dr\, Kansas City\, MO 64153\, 10015 N Ambassador Dr\, Kansas City\, MO\, 65153\, United States
END:VEVENT
END:VCALENDAR