BEGIN:VCALENDAR
VERSION:2.0
PRODID:-//PlatteRepublicans.org - ECPv6.15.13.1//NONSGML v1.0//EN
CALSCALE:GREGORIAN
METHOD:PUBLISH
X-ORIGINAL-URL:https://www.platterepublicans.org
X-WR-CALDESC:Events for PlatteRepublicans.org
REFRESH-INTERVAL;VALUE=DURATION:PT1H
X-Robots-Tag:noindex
X-PUBLISHED-TTL:PT1H
BEGIN:VTIMEZONE
TZID:America/Chicago
BEGIN:DAYLIGHT
TZOFFSETFROM:-0600
TZOFFSETTO:-0500
TZNAME:CDT
DTSTART:20110313T080000
END:DAYLIGHT
BEGIN:STANDARD
TZOFFSETFROM:-0500
TZOFFSETTO:-0600
TZNAME:CST
DTSTART:20111106T070000
END:STANDARD
BEGIN:DAYLIGHT
TZOFFSETFROM:-0600
TZOFFSETTO:-0500
TZNAME:CDT
DTSTART:20120311T080000
END:DAYLIGHT
BEGIN:STANDARD
TZOFFSETFROM:-0500
TZOFFSETTO:-0600
TZNAME:CST
DTSTART:20121104T070000
END:STANDARD
BEGIN:DAYLIGHT
TZOFFSETFROM:-0600
TZOFFSETTO:-0500
TZNAME:CDT
DTSTART:20130310T080000
END:DAYLIGHT
BEGIN:STANDARD
TZOFFSETFROM:-0500
TZOFFSETTO:-0600
TZNAME:CST
DTSTART:20131103T070000
END:STANDARD
END:VTIMEZONE
BEGIN:VEVENT
DTSTART;TZID=America/Chicago:20121101T173000
DTEND;TZID=America/Chicago:20121101T190000
DTSTAMP:20260423T022045
CREATED:20120926T200212Z
LAST-MODIFIED:20200708T225001Z
UID:8987-1351791000-1351796400@www.platterepublicans.org
SUMMARY:Pachyderm Meeting
DESCRIPTION:The Platte County Pachyderm Club welcomes Jason Klindt\, Communications Director for Congressman Sam Graves\, to its November 1\, 2012 meeting at the Tiffany Greens Golf Club.  Mr. Klindt\, with his extensive knowledge and experience in national\, state and local politics\, will provide insight and predictions on what to expect election day.  Drinks and appetizers at 5:30 p.m.; program begins at 6 p.m. \nThe event is $12 for members and $15 for non-members (includes a drink and appetizers).
URL:https://www.platterepublicans.org/event/pachyderm-meeting-3/
LOCATION:MO
CATEGORIES:Calendar,In The News,Platte County GOP News
END:VEVENT
BEGIN:VEVENT
DTSTART;TZID=America/Chicago:20121101T183000
DTEND;TZID=America/Chicago:20121101T210000
DTSTAMP:20260423T022045
CREATED:20120827T193738Z
LAST-MODIFIED:20200708T224959Z
UID:8967-1351794600-1351803600@www.platterepublicans.org
SUMMARY:Americans for Prosperity Phone Bank
DESCRIPTION:Phones are available through AFP with prepared scripts asking issue based questions. It’s a simple way to ID Voters and it will help us immensely in the November Race to Victory!
URL:https://www.platterepublicans.org/event/americans-for-prosperity-phone-bank-8/
LOCATION:MO
CATEGORIES:Calendar
END:VEVENT
BEGIN:VEVENT
DTSTART;TZID=America/Chicago:20121102T100000
DTEND;TZID=America/Chicago:20121106T190000
DTSTAMP:20260423T022045
CREATED:20121022T043713Z
LAST-MODIFIED:20200708T225002Z
UID:9000-1351850400-1352228400@www.platterepublicans.org
SUMMARY:Platte County Get Out The Vote (GOTV) Final Push
DESCRIPTION:Calling all volunteers to help GOTV effort starting 10 am Friday 2 November until the polls close at 7 pm on Tuesday 6 Nov.  Sign up at the PC GOP HQ to work two hour blocks of time making phone calls or going door-to-door to drop campaign literature.  Day of the election also volunteer some time to work outside polling places passing out campaign literature\, talk to your friends and show your support for candidates. \nPC GOP HQ 816.505.1994 \nwww.PlatteRepublicans.org
URL:https://www.platterepublicans.org/event/platte-county-get-out-the-vote-gotv-final-push/
LOCATION:MO
CATEGORIES:Calendar,Events,In The News,Platte County GOP News
END:VEVENT
BEGIN:VEVENT
DTSTART;TZID=America/Chicago:20121102T151500
DTEND;TZID=America/Chicago:20121102T160000
DTSTAMP:20260423T022045
CREATED:20121013T201407Z
LAST-MODIFIED:20200708T225002Z
UID:8992-1351869300-1351872000@www.platterepublicans.org
SUMMARY:No McCaskill - FRC Bus Tour with Tony Perkins
DESCRIPTION:FRC Bus Tour will be at the Platte County Republican HQ’s at 3:15 for a 45 minute stop. Tony Perkins\, FRC President and Connie Mackie the Action Political Team Leader will speak!\n\nDont Miss this event!
URL:https://www.platterepublicans.org/event/no-mccaskill-frc-bus-tour-with-tony-perkins/
LOCATION:MO
CATEGORIES:Calendar,Claire McCaskill,Platte County GOP News
END:VEVENT
BEGIN:VEVENT
DTSTART;TZID=America/Chicago:20121103T103000
DTEND;TZID=America/Chicago:20121103T120000
DTSTAMP:20260423T022045
CREATED:20121101T195924Z
LAST-MODIFIED:20200708T225003Z
UID:9003-1351938600-1351944000@www.platterepublicans.org
SUMMARY:Todd Akin Rally at the The National World War I Museum
DESCRIPTION:The perfect venue for Congressman Todd Akin’s last rally before Election Day is at The National World War I Museum at the Liberty Memorial\, in the JC Nichols Auditorium. Saturday\, November 3 from 10:30 am till Noon. Address 100 W 26th Street\, Kansas City\, MO 64108 \nAkin will be joined by an all-star cast of celebrities; \nStar Parker \nJacob Turk\, Candidate for Congress from the 5th District of Missouri. \nBill Randles\, former candidate for Governor of Missouri \nZina Hackworth and the Bott Radio Network \nThis all-star cast of celebrities will energize this crowd. \nGreg Knapp\, who has the Morning Show on KCMO 710 AM and 103.7 FM. Gregg will bring his Crossroads Revival band\, entertaining the crowd with patriotic songs. \nTodd Akin is a true Patriot\, served in the Army and has three sons who are United States Marines. The tradition of service to country\, with honor\, runs deep in the Akin family. \nThis event is being hosted by FairTaxKC and friends. Todd Akin knows the importance of true tax reform. As an experienced legislator in the U.S. House of Representatives for 12 years\, and a co-sponsor of the FairTax Bill HR25\, he knows what to do in the U.S. Senate\, i.e. grow the economy\, and create jobs. \nThere is no charge for this event. Don’t be late. Its starts at 10:30 a.m. and will end precisely at Noon. \nSee you there. \nEarl Long and FairTaxKC.
URL:https://www.platterepublicans.org/event/todd-akin-rally-at-the-the-national-world-war-i-museum/
LOCATION:MO
CATEGORIES:Calendar,Events,In The News
END:VEVENT
BEGIN:VEVENT
DTSTART;TZID=America/Chicago:20121105T183000
DTEND;TZID=America/Chicago:20121105T210000
DTSTAMP:20260423T022045
CREATED:20120827T193907Z
LAST-MODIFIED:20200708T224959Z
UID:8968-1352140200-1352149200@www.platterepublicans.org
SUMMARY:Americans for Prosperity Phone Bank
DESCRIPTION:Phones are available through AFP with prepared scripts asking issue based questions. It’s a simple way to ID Voters and it will help us immensely in the November Race to Victory!
URL:https://www.platterepublicans.org/event/americans-for-prosperity-phone-bank-9/
LOCATION:MO
CATEGORIES:Calendar
END:VEVENT
BEGIN:VEVENT
DTSTART;TZID=America/Chicago:20121105T190000
DTEND;TZID=America/Chicago:20121105T200000
DTSTAMP:20260423T022045
CREATED:20121013T201553Z
LAST-MODIFIED:20200708T225002Z
UID:8993-1352142000-1352145600@www.platterepublicans.org
SUMMARY:Central Committee Meeting
DESCRIPTION:Final Central Committee Meeting before the General Election.
URL:https://www.platterepublicans.org/event/central-committee-meeting-2/
LOCATION:MO
CATEGORIES:Calendar,News
END:VEVENT
BEGIN:VEVENT
DTSTART;TZID=America/Chicago:20121106T060000
DTEND;TZID=America/Chicago:20121106T190000
DTSTAMP:20260423T022045
CREATED:20120519T211035Z
LAST-MODIFIED:20200708T224952Z
UID:8924-1352181600-1352228400@www.platterepublicans.org
SUMMARY:General Election Day
DESCRIPTION:
URL:https://www.platterepublicans.org/event/general-election-day/
LOCATION:MO
CATEGORIES:Calendar,Events,Platte County GOP News
END:VEVENT
BEGIN:VEVENT
DTSTART;TZID=America/Chicago:20121106T193000
DTEND;TZID=America/Chicago:20121106T233000
DTSTAMP:20260423T022045
CREATED:20121022T041316Z
LAST-MODIFIED:20200708T225002Z
UID:8997-1352230200-1352244600@www.platterepublicans.org
SUMMARY:Election Watch Party
DESCRIPTION:We brought you REAGAN RANCH DAY\nin 2011 to rally the troops\nand raise money for\nVICTORY in November 2012. \nThat time is here! \nJoin us 7:30 pm Election Day \nPlatte County Republican Office\n5913 N.W. 63rd Terrace\, Kansas City\, Missouri \nBeer~~ Wine~~ Food \nCelebration!! \nInvite your FRIENDS and FAMILY.\nNo RSVP necessary. \nYou have been the ground troops for the candidates\nand the issues. You have knocked the doors\,\nstaffed the office\, worked the polls\,\nwritten the checks and fought the good fight. \nNow it is time to celebrate!\nSee you November 6! \n \nPlatte County Republican Headquarters\n5918 NW 63rd Terrace\nThe Villages at Burlington Creek\n816-505-1994\nhttps://www.platterepublicans.org/
URL:https://www.platterepublicans.org/event/election-watch-party/
LOCATION:MO
CATEGORIES:Calendar
END:VEVENT
BEGIN:VEVENT
DTSTART;TZID=America/Chicago:20121116T190000
DTEND;TZID=America/Chicago:20121116T210000
DTSTAMP:20260423T022045
CREATED:20120519T210755Z
LAST-MODIFIED:20200708T224951Z
UID:8922-1353092400-1353099600@www.platterepublicans.org
SUMMARY:Third Friday Patriots
DESCRIPTION:Meet fellow conservatives\, get to know candidates and current office holders and find out more about issues that affect you.\n\nFrom I-29 and 635\nTake 635 south one exit to 9 Highway\nTake 9 Highway north toward historic Parkville\nGo 2 miles to Riverchase Dr (just after the school bus depot)\nTurn right onto Riverchase\nTake the first right onto Wall St\nOurs is the last house on the right\, 6223 Wall St.
URL:https://www.platterepublicans.org/event/third-friday-patriots-5/
LOCATION:MO
CATEGORIES:Calendar,Events,Platte County GOP News
END:VEVENT
END:VCALENDAR