BEGIN:VCALENDAR
VERSION:2.0
PRODID:-//PlatteRepublicans.org - ECPv6.15.13.1//NONSGML v1.0//EN
CALSCALE:GREGORIAN
METHOD:PUBLISH
X-WR-CALNAME:PlatteRepublicans.org
X-ORIGINAL-URL:https://www.platterepublicans.org
X-WR-CALDESC:Events for PlatteRepublicans.org
REFRESH-INTERVAL;VALUE=DURATION:PT1H
X-Robots-Tag:noindex
X-PUBLISHED-TTL:PT1H
BEGIN:VTIMEZONE
TZID:America/Chicago
BEGIN:DAYLIGHT
TZOFFSETFROM:-0600
TZOFFSETTO:-0500
TZNAME:CDT
DTSTART:20120311T080000
END:DAYLIGHT
BEGIN:STANDARD
TZOFFSETFROM:-0500
TZOFFSETTO:-0600
TZNAME:CST
DTSTART:20121104T070000
END:STANDARD
BEGIN:DAYLIGHT
TZOFFSETFROM:-0600
TZOFFSETTO:-0500
TZNAME:CDT
DTSTART:20130310T080000
END:DAYLIGHT
BEGIN:STANDARD
TZOFFSETFROM:-0500
TZOFFSETTO:-0600
TZNAME:CST
DTSTART:20131103T070000
END:STANDARD
BEGIN:DAYLIGHT
TZOFFSETFROM:-0600
TZOFFSETTO:-0500
TZNAME:CDT
DTSTART:20140309T080000
END:DAYLIGHT
BEGIN:STANDARD
TZOFFSETFROM:-0500
TZOFFSETTO:-0600
TZNAME:CST
DTSTART:20141102T070000
END:STANDARD
END:VTIMEZONE
BEGIN:VEVENT
DTSTART;TZID=America/Chicago:20130502T173000
DTEND;TZID=America/Chicago:20130502T193000
DTSTAMP:20260422T164735
CREATED:20130221T160645Z
LAST-MODIFIED:20200708T225008Z
UID:9027-1367515800-1367523000@www.platterepublicans.org
SUMMARY:Platte County Pachyderm Club Meets
DESCRIPTION:Tiffany Greens Clubhouse\, 5900 NW Tiffany Springs Parkway\, Platte County\, Kansas City\, Missouri (map)\nSocial begins at 5:30 pm and program at 6:00 pm.  Guest speakers relate their extensive knowledge and experience in national\, state and local politics and on topical issues of the day.\nMembers $12\, non-members $15. Includes appetizers\, a drink\, and great company!
URL:https://www.platterepublicans.org/event/platte-county-pachyderm-club-meets/
LOCATION:MO
CATEGORIES:Calendar,Events
END:VEVENT
BEGIN:VEVENT
DTSTART;TZID=America/Chicago:20130506T190000
DTEND;TZID=America/Chicago:20130506T210000
DTSTAMP:20260422T164735
CREATED:20130121T003012Z
LAST-MODIFIED:20200708T225005Z
UID:9020-1367866800-1367874000@www.platterepublicans.org
SUMMARY:PCRCC
DESCRIPTION:
URL:https://www.platterepublicans.org/event/pcrcc-2/
LOCATION:MO
CATEGORIES:Calendar
END:VEVENT
END:VCALENDAR