BEGIN:VCALENDAR
VERSION:2.0
PRODID:-//PlatteRepublicans.org - ECPv6.15.13.1//NONSGML v1.0//EN
CALSCALE:GREGORIAN
METHOD:PUBLISH
X-WR-CALNAME:PlatteRepublicans.org
X-ORIGINAL-URL:https://www.platterepublicans.org
X-WR-CALDESC:Events for PlatteRepublicans.org
REFRESH-INTERVAL;VALUE=DURATION:PT1H
X-Robots-Tag:noindex
X-PUBLISHED-TTL:PT1H
BEGIN:VTIMEZONE
TZID:America/Chicago
BEGIN:DAYLIGHT
TZOFFSETFROM:-0600
TZOFFSETTO:-0500
TZNAME:CDT
DTSTART:20120311T080000
END:DAYLIGHT
BEGIN:STANDARD
TZOFFSETFROM:-0500
TZOFFSETTO:-0600
TZNAME:CST
DTSTART:20121104T070000
END:STANDARD
BEGIN:DAYLIGHT
TZOFFSETFROM:-0600
TZOFFSETTO:-0500
TZNAME:CDT
DTSTART:20130310T080000
END:DAYLIGHT
BEGIN:STANDARD
TZOFFSETFROM:-0500
TZOFFSETTO:-0600
TZNAME:CST
DTSTART:20131103T070000
END:STANDARD
BEGIN:DAYLIGHT
TZOFFSETFROM:-0600
TZOFFSETTO:-0500
TZNAME:CDT
DTSTART:20140309T080000
END:DAYLIGHT
BEGIN:STANDARD
TZOFFSETFROM:-0500
TZOFFSETTO:-0600
TZNAME:CST
DTSTART:20141102T070000
END:STANDARD
END:VTIMEZONE
BEGIN:VEVENT
DTSTART;TZID=America/Chicago:20130603T190000
DTEND;TZID=America/Chicago:20130603T210000
DTSTAMP:20260422T150638
CREATED:20130121T003047Z
LAST-MODIFIED:20200708T225005Z
UID:9021-1370286000-1370293200@www.platterepublicans.org
SUMMARY:PCRCC
DESCRIPTION:
URL:https://www.platterepublicans.org/event/pcrcc-3/
LOCATION:MO
CATEGORIES:Calendar
END:VEVENT
BEGIN:VEVENT
DTSTART;TZID=America/Chicago:20130606T173000
DTEND;TZID=America/Chicago:20130606T193000
DTSTAMP:20260422T150638
CREATED:20130413T191740Z
LAST-MODIFIED:20200708T225008Z
UID:9031-1370539800-1370547000@www.platterepublicans.org
SUMMARY:Platte County Pachyderm Club
DESCRIPTION:Tiffany Greens Clubhouse\, 5900 NW Tiffany Springs Parkway\, Platte County\, Kansas City\, Missouri (map)\nSocial begins at 5:30 pm and program at 6:00 pm.  Guest speakers relate their extensive knowledge and experience in national\, state and local politics and on topical issues of the day.\nMembers $12\, non-members $15. Includes appetizers\, a drink\, and great company!
URL:https://www.platterepublicans.org/event/platte-county-pachyderm-club/
LOCATION:MO
CATEGORIES:Calendar,Events
END:VEVENT
BEGIN:VEVENT
DTSTART;TZID=America/Chicago:20130608T170000
DTEND;TZID=America/Chicago:20130608T210000
DTSTAMP:20260422T150638
CREATED:20130606T205230Z
LAST-MODIFIED:20200708T225009Z
UID:9041-1370710800-1370725200@www.platterepublicans.org
SUMMARY:PCFRW Annual Picnic Fundraiser
DESCRIPTION:Cost $10 per person or $20 per family. Meat and drinks provided. Please bring a side dish or dessert and your lawn chairs. Great fun getting to meet fellow Platte County Republicans. \nCheck Facebook to RSVP to PCFRW Annual Picnic Fundraiser.
URL:https://www.platterepublicans.org/event/pcfrw-annual-picnic-fundraiser/
LOCATION:MO
CATEGORIES:Calendar,Events,Platte County GOP News
END:VEVENT
BEGIN:VEVENT
DTSTART;TZID=America/Chicago:20130613T090000
DTEND;TZID=America/Chicago:20130613T100000
DTSTAMP:20260422T150638
CREATED:20130605T191545Z
LAST-MODIFIED:20200708T225008Z
UID:9034-1371114000-1371117600@www.platterepublicans.org
SUMMARY:Roy Blunt Representative in Platte City
DESCRIPTION:A representative of Roy Blunt will be at the Administration Building from 9-10 am to meet with constituents.
URL:https://www.platterepublicans.org/event/roy-blunt-representative-in-platte-city/
LOCATION:MO
CATEGORIES:Calendar,Events
END:VEVENT
BEGIN:VEVENT
DTSTART;TZID=America/Chicago:20130618T114500
DTEND;TZID=America/Chicago:20130618T131500
DTSTAMP:20260422T150638
CREATED:20130605T192115Z
LAST-MODIFIED:20200708T225008Z
UID:9035-1371555900-1371561300@www.platterepublicans.org
SUMMARY:Meet Ed Martin\, MoGOP Chair
DESCRIPTION:Visit with Ed Martin from 11:45-1:15. Welcome to join Ed at the Drury Inn and Suites\, KC Stadium 3830 Blue Ridge Cutoff.  If so desired\, individuals may purchase lunch.
URL:https://www.platterepublicans.org/event/meet-ed-martin-mogop-chair/
LOCATION:MO
CATEGORIES:Calendar,Events
END:VEVENT
BEGIN:VEVENT
DTSTART;TZID=America/Chicago:20130622T100000
DTEND;TZID=America/Chicago:20130622T120000
DTSTAMP:20260422T150638
CREATED:20130605T192940Z
LAST-MODIFIED:20200708T225009Z
UID:9037-1371895200-1371902400@www.platterepublicans.org
SUMMARY:Mo State Committee Meeting
DESCRIPTION:The next meeting of the Missouri Republican State Committee will be held at 10 AM on Saturday 22 June 2013 at the Holiday Inn Select Executive Center in Columbia MO in the Picadilly Room. \nState Committee Members:  http://www.mogop.org/resources/mo-gop/committee-finder/?qt=state
URL:https://www.platterepublicans.org/event/mo-state-committee-meeting/
LOCATION:MO
CATEGORIES:Calendar,Events
END:VEVENT
BEGIN:VEVENT
DTSTART;TZID=America/Chicago:20130622T130000
DTEND;TZID=America/Chicago:20130622T150000
DTSTAMP:20260422T150638
CREATED:20130605T192532Z
LAST-MODIFIED:20200708T225009Z
UID:9036-1371906000-1371913200@www.platterepublicans.org
SUMMARY:Missouri "FIRST" Annual Republican Party Summer BBQ
DESCRIPTION:Please help us make our first statewide BBQ a success.  Tell your friends and family.  With your help\, this event will become a tremendous success.  Please RSVP  by contacting the staff of the Missouri Republican Party\, (573) 636-3146 or email alyssa@mogop.org.
URL:https://www.platterepublicans.org/event/missouri-first-annual-republican-party-summer-bbq/
LOCATION:MO
CATEGORIES:Calendar,Events
END:VEVENT
BEGIN:VEVENT
DTSTART;TZID=America/Chicago:20130628T183000
DTEND;TZID=America/Chicago:20130628T203000
DTSTAMP:20260422T150638
CREATED:20130621T162902Z
LAST-MODIFIED:20200708T225009Z
UID:9043-1372444200-1372451400@www.platterepublicans.org
SUMMARY:Ben Evan - Heritage Action
DESCRIPTION:Ben Evans\, of Heritage Action\, the political arm of The Heritage Foundation\, will be speaking Friday\, June 28 at the Reece Nichols Building\, 307 S. Jefferson\, Kearney\, MO. He will be talking about the basics of holding Congress accountable to conservative\, liberty-minded principles. \nSocial at 6:30 pm \nFood and Drink begins at 7:00 pm
URL:https://www.platterepublicans.org/event/ben-evan-heritage-action/
LOCATION:MO
CATEGORIES:Calendar,Events
END:VEVENT
END:VCALENDAR