BEGIN:VCALENDAR
VERSION:2.0
PRODID:-//PlatteRepublicans.org - ECPv6.15.13.1//NONSGML v1.0//EN
CALSCALE:GREGORIAN
METHOD:PUBLISH
X-ORIGINAL-URL:https://www.platterepublicans.org
X-WR-CALDESC:Events for PlatteRepublicans.org
REFRESH-INTERVAL;VALUE=DURATION:PT1H
X-Robots-Tag:noindex
X-PUBLISHED-TTL:PT1H
BEGIN:VTIMEZONE
TZID:America/Chicago
BEGIN:DAYLIGHT
TZOFFSETFROM:-0600
TZOFFSETTO:-0500
TZNAME:CDT
DTSTART:20120311T080000
END:DAYLIGHT
BEGIN:STANDARD
TZOFFSETFROM:-0500
TZOFFSETTO:-0600
TZNAME:CST
DTSTART:20121104T070000
END:STANDARD
BEGIN:DAYLIGHT
TZOFFSETFROM:-0600
TZOFFSETTO:-0500
TZNAME:CDT
DTSTART:20130310T080000
END:DAYLIGHT
BEGIN:STANDARD
TZOFFSETFROM:-0500
TZOFFSETTO:-0600
TZNAME:CST
DTSTART:20131103T070000
END:STANDARD
BEGIN:DAYLIGHT
TZOFFSETFROM:-0600
TZOFFSETTO:-0500
TZNAME:CDT
DTSTART:20140309T080000
END:DAYLIGHT
BEGIN:STANDARD
TZOFFSETFROM:-0500
TZOFFSETTO:-0600
TZNAME:CST
DTSTART:20141102T070000
END:STANDARD
END:VTIMEZONE
BEGIN:VEVENT
DTSTART;TZID=America/Chicago:20130801T173000
DTEND;TZID=America/Chicago:20130801T193000
DTSTAMP:20260422T113901
CREATED:20130705T191227Z
LAST-MODIFIED:20200708T225011Z
UID:9049-1375378200-1375385400@www.platterepublicans.org
SUMMARY:Platte County Pachyderm Club
DESCRIPTION:Tiffany Springs Golf Course (map)\nSocial begins at 5:30 pm and program at 6:00 pm.  Members $12\, non-members $15. Includes appetizers\, a drink\, and great company!\nJoin us to discuss Missouri Legislation with our Platte County Representatives with Senator Rob Schaaf\, Representatives Nick Marshall\, Ron Schieber and Ken Wilson.
URL:https://www.platterepublicans.org/event/platte-county-pachyderm-club-2/
LOCATION:MO
CATEGORIES:Calendar,Events
END:VEVENT
BEGIN:VEVENT
DTSTART;VALUE=DATE:20130802
DTEND;VALUE=DATE:20130803
DTSTAMP:20260422T113901
CREATED:20130705T183425Z
LAST-MODIFIED:20200708T225010Z
UID:9045-1375401600-1375401600@www.platterepublicans.org
SUMMARY:Back to School Sales Tax Holiday Weekend 8/2-8/4
DESCRIPTION:“By state law\, the sales tax holiday begins on the first Friday in August and continues through the following Sunday. In 2013\, the three-day holiday begins at 12:01 a.m. on Friday\, Aug. 2\, and runs through Sunday\, Aug. 4. Certain back-to-school purchases\, such as clothing\, school supplies\, computers\, and other items as defined by the statute\, are exempt from sales tax for this time period only.”  http://dor.mo.gov/business/sales/taxholiday/school/
URL:https://www.platterepublicans.org/event/back-to-school-sales-tax-holiday-weekend-8-2-8-4/
LOCATION:MO
CATEGORIES:Calendar,In The News
END:VEVENT
BEGIN:VEVENT
DTSTART;TZID=America/Chicago:20130805T190000
DTEND;TZID=America/Chicago:20130805T210000
DTSTAMP:20260422T113901
CREATED:20130121T003201Z
LAST-MODIFIED:20200708T225005Z
UID:9022-1375729200-1375736400@www.platterepublicans.org
SUMMARY:PCRCC August Meeting CANCELLED
DESCRIPTION:
URL:https://www.platterepublicans.org/event/pcrcc-august-meeting-cancelled/
LOCATION:MO
CATEGORIES:Calendar
END:VEVENT
BEGIN:VEVENT
DTSTART;VALUE=DATE:20130808
DTEND;VALUE=DATE:20130809
DTSTAMP:20260422T113901
CREATED:20130605T193556Z
LAST-MODIFIED:20200708T225009Z
UID:9039-1375920000-1375920000@www.platterepublicans.org
SUMMARY:Missouri State Fair 8/8-8/18
DESCRIPTION:Join us in the Republican Booth and enjoy the fair! \nFor all the information\, please go to the fair website. \nhttp://www.mostatefair.com/home
URL:https://www.platterepublicans.org/event/missouri-state-fair-8-8-8-18/
LOCATION:MO
CATEGORIES:Calendar,Events
END:VEVENT
BEGIN:VEVENT
DTSTART;TZID=America/Chicago:20130815T080000
DTEND;TZID=America/Chicago:20130815T100000
DTSTAMP:20260422T113901
CREATED:20130617T020342Z
LAST-MODIFIED:20200708T225009Z
UID:9042-1376553600-1376560800@www.platterepublicans.org
SUMMARY:Governors Breakfast at the Fair
DESCRIPTION:Governor’s Ham Breakfast MOStateFair.com  \n8am Director’s Tent \n$25.00 breakfast and fair entrance!
URL:https://www.platterepublicans.org/event/governors-breakfast-at-the-fair/
LOCATION:MO
CATEGORIES:Calendar,Events
END:VEVENT
END:VCALENDAR