BEGIN:VCALENDAR
VERSION:2.0
PRODID:-//PlatteRepublicans.org - ECPv6.15.13.1//NONSGML v1.0//EN
CALSCALE:GREGORIAN
METHOD:PUBLISH
X-WR-CALNAME:PlatteRepublicans.org
X-ORIGINAL-URL:https://www.platterepublicans.org
X-WR-CALDESC:Events for PlatteRepublicans.org
REFRESH-INTERVAL;VALUE=DURATION:PT1H
X-Robots-Tag:noindex
X-PUBLISHED-TTL:PT1H
BEGIN:VTIMEZONE
TZID:America/Chicago
BEGIN:DAYLIGHT
TZOFFSETFROM:-0600
TZOFFSETTO:-0500
TZNAME:CDT
DTSTART:20130310T080000
END:DAYLIGHT
BEGIN:STANDARD
TZOFFSETFROM:-0500
TZOFFSETTO:-0600
TZNAME:CST
DTSTART:20131103T070000
END:STANDARD
BEGIN:DAYLIGHT
TZOFFSETFROM:-0600
TZOFFSETTO:-0500
TZNAME:CDT
DTSTART:20140309T080000
END:DAYLIGHT
BEGIN:STANDARD
TZOFFSETFROM:-0500
TZOFFSETTO:-0600
TZNAME:CST
DTSTART:20141102T070000
END:STANDARD
BEGIN:DAYLIGHT
TZOFFSETFROM:-0600
TZOFFSETTO:-0500
TZNAME:CDT
DTSTART:20150308T080000
END:DAYLIGHT
BEGIN:STANDARD
TZOFFSETFROM:-0500
TZOFFSETTO:-0600
TZNAME:CST
DTSTART:20151101T070000
END:STANDARD
END:VTIMEZONE
BEGIN:VEVENT
DTSTART;TZID=America/Chicago:20140106T190000
DTEND;TZID=America/Chicago:20140106T210000
DTSTAMP:20260422T032809
CREATED:20131125T031739Z
LAST-MODIFIED:20200708T225012Z
UID:9062-1389034800-1389042000@www.platterepublicans.org
SUMMARY:Platte County Republican Central Committee Meeting
DESCRIPTION:
URL:https://www.platterepublicans.org/event/platte-county-republican-central-committee-meeting/
LOCATION:MO
CATEGORIES:Calendar
END:VEVENT
BEGIN:VEVENT
DTSTART;TZID=America/Chicago:20140108T100000
DTEND;TZID=America/Chicago:20140108T180000
DTSTAMP:20260422T032809
CREATED:20140102T205715Z
LAST-MODIFIED:20200708T225014Z
UID:9075-1389175200-1389204000@www.platterepublicans.org
SUMMARY:Open Day Missouri House/Senate
DESCRIPTION:Join us in Jefferson City\nWednesday\, January 8\, 2014\nto\nImpact Your Missouri Government!\n \nStatewide Meeting in Support\nof Right to Work \nFeaturing Speaker of the House Tim Jones\nLieutenant Governor Peter Kinder\nRepresentative Eric Burlison\nSenator Ed Emery \nMissouri State Capitol\n201 W Capitol Ave\nJefferson City\, MO \nWednesday January 8th at 10am (arrive early)\nIn the beautiful House Lounge next to office 308 \nEveryone in support of RTW is encouraged to attend!\nPlease forward this information.\nFor more info\, call Mary Hill 816-456-4538 \nMake a day of it and plan to attend all of\nthese statewide meetings! \n\nHearing room 7 starting at noon……\n\nVoter ID and Election Integrity\nShane Schoeller\, MOGOP Executive Director \nSocial Media Basics\nwith Linda Ragsdale\, Former Chair and National\nCommitteewoman\, Young Republicans\n \nCommon Core\nStacy Shore\nConcerned Women of America \nMissourians Against Agenda 21\n2:00 pm in Conference Room 2
URL:https://www.platterepublicans.org/event/open-day-missouri-house-senate/
LOCATION:MO
CATEGORIES:Calendar,Events
END:VEVENT
BEGIN:VEVENT
DTSTART;TZID=America/Chicago:20140109T190000
DTEND;TZID=America/Chicago:20140109T200000
DTSTAMP:20260422T032809
CREATED:20140102T205924Z
LAST-MODIFIED:20200708T225014Z
UID:9076-1389294000-1389297600@www.platterepublicans.org
SUMMARY:Park Hill School Board Mtg Tax Vote
DESCRIPTION:
URL:https://www.platterepublicans.org/event/park-hill-school-board-mtg-tax-vote/
LOCATION:MO
CATEGORIES:Calendar,Events
END:VEVENT
BEGIN:VEVENT
DTSTART;TZID=America/Chicago:20140117T190000
DTEND;TZID=America/Chicago:20140117T210000
DTSTAMP:20260422T032809
CREATED:20140102T211144Z
LAST-MODIFIED:20200708T225014Z
UID:9078-1389985200-1389992400@www.platterepublicans.org
SUMMARY:Third Friday Patriots
DESCRIPTION:Join us for food and fun every third Friday at \nHome of Abby & Bill Olson \n6223 Wall St.\, Kansas City\, MO 64151
URL:https://www.platterepublicans.org/event/third-friday-patriots-6/
LOCATION:MO
CATEGORIES:Calendar
END:VEVENT
BEGIN:VEVENT
DTSTART;TZID=America/Chicago:20140124T183000
DTEND;TZID=America/Chicago:20140124T203000
DTSTAMP:20260422T032809
CREATED:20140102T210147Z
LAST-MODIFIED:20200708T225014Z
UID:9077-1390588200-1390595400@www.platterepublicans.org
SUMMARY:Common Core Forum
DESCRIPTION:Learn about Common Core with\nDr. Mary Byrne\, Rita Weise
URL:https://www.platterepublicans.org/event/common-core-forum/
LOCATION:MO
CATEGORIES:Calendar,Events
END:VEVENT
END:VCALENDAR