BEGIN:VCALENDAR
VERSION:2.0
PRODID:-//PlatteRepublicans.org - ECPv6.15.13.1//NONSGML v1.0//EN
CALSCALE:GREGORIAN
METHOD:PUBLISH
X-ORIGINAL-URL:https://www.platterepublicans.org
X-WR-CALDESC:Events for PlatteRepublicans.org
REFRESH-INTERVAL;VALUE=DURATION:PT1H
X-Robots-Tag:noindex
X-PUBLISHED-TTL:PT1H
BEGIN:VTIMEZONE
TZID:America/Chicago
BEGIN:DAYLIGHT
TZOFFSETFROM:-0600
TZOFFSETTO:-0500
TZNAME:CDT
DTSTART:20130310T080000
END:DAYLIGHT
BEGIN:STANDARD
TZOFFSETFROM:-0500
TZOFFSETTO:-0600
TZNAME:CST
DTSTART:20131103T070000
END:STANDARD
BEGIN:DAYLIGHT
TZOFFSETFROM:-0600
TZOFFSETTO:-0500
TZNAME:CDT
DTSTART:20140309T080000
END:DAYLIGHT
BEGIN:STANDARD
TZOFFSETFROM:-0500
TZOFFSETTO:-0600
TZNAME:CST
DTSTART:20141102T070000
END:STANDARD
BEGIN:DAYLIGHT
TZOFFSETFROM:-0600
TZOFFSETTO:-0500
TZNAME:CDT
DTSTART:20150308T080000
END:DAYLIGHT
BEGIN:STANDARD
TZOFFSETFROM:-0500
TZOFFSETTO:-0600
TZNAME:CST
DTSTART:20151101T070000
END:STANDARD
END:VTIMEZONE
BEGIN:VEVENT
DTSTART;TZID=America/Chicago:20140203T190000
DTEND;TZID=America/Chicago:20140203T210000
DTSTAMP:20260420T041853
CREATED:20131125T031840Z
LAST-MODIFIED:20200708T225012Z
UID:9063-1391454000-1391461200@www.platterepublicans.org
SUMMARY:Platte County Republican Central Committee Meeting
DESCRIPTION:
URL:https://www.platterepublicans.org/event/platte-county-republican-central-committee-meeting-2/
LOCATION:MO
CATEGORIES:Calendar
END:VEVENT
BEGIN:VEVENT
DTSTART;TZID=America/Chicago:20140204T173000
DTEND;TZID=America/Chicago:20140204T190000
DTSTAMP:20260420T041853
CREATED:20140204T185327Z
LAST-MODIFIED:20200708T225017Z
UID:9089-1391535000-1391540400@www.platterepublicans.org
SUMMARY:Platte County Pachyderm
DESCRIPTION:Social Begins 5:30 \nProgram at 6:00
URL:https://www.platterepublicans.org/event/platte-county-pachyderm-5/
LOCATION:MO
CATEGORIES:Calendar,Events
END:VEVENT
BEGIN:VEVENT
DTSTART;TZID=America/Chicago:20140206T173000
DTEND;TZID=America/Chicago:20140206T190000
DTSTAMP:20260420T041853
CREATED:20140201T173658Z
LAST-MODIFIED:20200708T225017Z
UID:9087-1391707800-1391713200@www.platterepublicans.org
SUMMARY:Platte County Pachyderm
DESCRIPTION:Social at 5:30\, Program at 6:00\nPachyderm meeting will feature Platte County’s own Jim Rooney. Jim is a long time Pachyderm and a member of the Platte County Republican Central Committee. At next week’s meeting Jim will provide a briefing of the Republican State Committee Report. He will also talk about the upcoming Lincoln Days events and how the state party is preparing for the 2014 election cycle.
URL:https://www.platterepublicans.org/event/platte-county-pachyderm-4/
LOCATION:MO
CATEGORIES:Calendar
END:VEVENT
BEGIN:VEVENT
DTSTART;TZID=America/Chicago:20140208T090000
DTEND;TZID=America/Chicago:20140208T150000
DTSTAMP:20260420T041853
CREATED:20140201T173907Z
LAST-MODIFIED:20200708T225017Z
UID:9088-1391850000-1391871600@www.platterepublicans.org
SUMMARY:Agenda 21 - Property Rights & Sustainable Development
DESCRIPTION:A day of learning\, featuring Ike Skelton.  Ike is an expert in Agenda 21 Property Rights and how your rights are impacted by our government.  Learn about Sustainable Development and how it is shaping our local communities. \n9 am – 3 pm at Platte County Resource Center\n11724 N.W. Plaza Circle Kansas City\, MO. \nThe cost for materials and lunch only $15 \nRSVP or further information – Theresa Emerson 816-880-4642
URL:https://www.platterepublicans.org/event/agenda-21-property-rights-sustainable-development/
LOCATION:MO
CATEGORIES:Calendar,Events,Featured,In The News
END:VEVENT
BEGIN:VEVENT
DTSTART;TZID=America/Chicago:20140220T183000
DTEND;TZID=America/Chicago:20140220T200000
DTSTAMP:20260420T041853
CREATED:20140114T142904Z
LAST-MODIFIED:20200708T225014Z
UID:9083-1392921000-1392926400@www.platterepublicans.org
SUMMARY:Dr. Milton Wolf (Obama's Cousin) KS US Senate Candidate
DESCRIPTION:Dr Milton Wolf\, candidate for the US Senate from Kansas will be the guest speaker at the FairTaxKC Town Hall Meeting on Feb 20\, 2014 beginning at 6:30 pm.  (Cousin to President Obama!) \nQuestions about this event may be referred to FairTaxKC@EverestKC.net \nhttp://www.miltonwolf.com/ \n\n\n\nThis is first of the re-constituted FairTaxKC monthly Town Hall meetings that will be held on every first Thursday at the Allied National building\, 4551 W 107th St\, Overland Park\, KS 66207.The Income Tax is becoming more of a problem for all Americans. The FairTax bills in the US Congress have been introduced every year for 15 years and have been blocked by Committee leadership\, preventing any national debate.  \nDr Milton Wolf has said the FairTax is an important part of his vision for America. We have invited Dr Wolf to give us his views on how Congress\, especially in the US Senate\, should be challenged to bring the FairTax to a national debate and hopefully become the law of the land.\n\n\n\n\n\n\n\n\nAll of the public is invited to this meeting however there may be restrictions on electronic recording.
URL:https://www.platterepublicans.org/event/dr-milton-wolf-obamas-cousin-ks-us-senate-candidate/
LOCATION:MO
CATEGORIES:Calendar,Events,Featured
END:VEVENT
BEGIN:VEVENT
DTSTART;VALUE=DATE:20140221
DTEND;VALUE=DATE:20140222
DTSTAMP:20260420T041853
CREATED:20130705T190615Z
LAST-MODIFIED:20200708T225011Z
UID:9048-1392940800-1392940800@www.platterepublicans.org
SUMMARY:Mo Lincoln Days 2/21/2014 - 2/23/2014
DESCRIPTION:More details to follow
URL:https://www.platterepublicans.org/event/mo-lincoln-days-2-21-2014-2-23-2014/
LOCATION:MO
CATEGORIES:Calendar,Events
END:VEVENT
BEGIN:VEVENT
DTSTART;TZID=America/Chicago:20140221T190000
DTEND;TZID=America/Chicago:20140221T210000
DTSTAMP:20260420T041853
CREATED:20140102T211232Z
LAST-MODIFIED:20200708T225014Z
UID:9079-1393009200-1393016400@www.platterepublicans.org
SUMMARY:Third Friday Patriots
DESCRIPTION:Join us for food and fun every third Friday at \nHome of Abby & Bill Olson \n6223 Wall St.\, Kansas City\, MO 64151
URL:https://www.platterepublicans.org/event/third-friday-patriots-7/
LOCATION:MO
CATEGORIES:Calendar
END:VEVENT
BEGIN:VEVENT
DTSTART;TZID=America/Chicago:20140225T080000
DTEND;TZID=America/Chicago:20140225T170000
DTSTAMP:20260420T041853
CREATED:20140213T200159Z
LAST-MODIFIED:20200708T225017Z
UID:9093-1393315200-1393347600@www.platterepublicans.org
SUMMARY:Candidate Filing Opens
DESCRIPTION:
URL:https://www.platterepublicans.org/event/candidate-filing-opens/
LOCATION:MO
CATEGORIES:Calendar,Events
END:VEVENT
BEGIN:VEVENT
DTSTART;TZID=America/Chicago:20140225T183000
DTEND;TZID=America/Chicago:20140225T190000
DTSTAMP:20260420T041853
CREATED:20140206T183003Z
LAST-MODIFIED:20200708T225017Z
UID:9092-1393353000-1393354800@www.platterepublicans.org
SUMMARY:Movie: Money for Nothing
DESCRIPTION:Join us for movie night with shared details
URL:https://www.platterepublicans.org/event/movie-money-for-nothing/
LOCATION:MO
CATEGORIES:Calendar,Featured
END:VEVENT
END:VCALENDAR