BEGIN:VCALENDAR
VERSION:2.0
PRODID:-//PlatteRepublicans.org - ECPv6.15.13.1//NONSGML v1.0//EN
CALSCALE:GREGORIAN
METHOD:PUBLISH
X-WR-CALNAME:PlatteRepublicans.org
X-ORIGINAL-URL:https://www.platterepublicans.org
X-WR-CALDESC:Events for PlatteRepublicans.org
REFRESH-INTERVAL;VALUE=DURATION:PT1H
X-Robots-Tag:noindex
X-PUBLISHED-TTL:PT1H
BEGIN:VTIMEZONE
TZID:America/Chicago
BEGIN:DAYLIGHT
TZOFFSETFROM:-0600
TZOFFSETTO:-0500
TZNAME:CDT
DTSTART:20130310T080000
END:DAYLIGHT
BEGIN:STANDARD
TZOFFSETFROM:-0500
TZOFFSETTO:-0600
TZNAME:CST
DTSTART:20131103T070000
END:STANDARD
BEGIN:DAYLIGHT
TZOFFSETFROM:-0600
TZOFFSETTO:-0500
TZNAME:CDT
DTSTART:20140309T080000
END:DAYLIGHT
BEGIN:STANDARD
TZOFFSETFROM:-0500
TZOFFSETTO:-0600
TZNAME:CST
DTSTART:20141102T070000
END:STANDARD
BEGIN:DAYLIGHT
TZOFFSETFROM:-0600
TZOFFSETTO:-0500
TZNAME:CDT
DTSTART:20150308T080000
END:DAYLIGHT
BEGIN:STANDARD
TZOFFSETFROM:-0500
TZOFFSETTO:-0600
TZNAME:CST
DTSTART:20151101T070000
END:STANDARD
END:VTIMEZONE
BEGIN:VEVENT
DTSTART;TZID=America/Chicago:20140303T190000
DTEND;TZID=America/Chicago:20140303T210000
DTSTAMP:20260420T023400
CREATED:20131125T031912Z
LAST-MODIFIED:20200708T225013Z
UID:9064-1393873200-1393880400@www.platterepublicans.org
SUMMARY:Platte County Republican Central Committee Meeting
DESCRIPTION:
URL:https://www.platterepublicans.org/event/platte-county-republican-central-committee-meeting-3/
LOCATION:MO
CATEGORIES:Calendar
END:VEVENT
BEGIN:VEVENT
DTSTART;TZID=America/Chicago:20140306T173000
DTEND;TZID=America/Chicago:20140306T200000
DTSTAMP:20260420T023400
CREATED:20140204T184650Z
LAST-MODIFIED:20200708T225016Z
UID:9084-1394127000-1394136000@www.platterepublicans.org
SUMMARY:Platte County Pachyderm
DESCRIPTION:Social Begins 5:30 \nProgram at 6:00
URL:https://www.platterepublicans.org/event/platte-county-pachyderm/
LOCATION:MO
CATEGORIES:Calendar,Events
END:VEVENT
BEGIN:VEVENT
DTSTART;TZID=America/Chicago:20140312T190000
DTEND;TZID=America/Chicago:20140312T210000
DTSTAMP:20260420T023400
CREATED:20140228T021412Z
LAST-MODIFIED:20200708T225017Z
UID:9095-1394650800-1394658000@www.platterepublicans.org
SUMMARY:Common Core or Common Sense
DESCRIPTION:This meeting is extremely important for everyone\,\nregardless of Party affiliation! \nPlease attend and bring everyone you know!\n\n\n\n\n\n \nCOMMON CORE OR COMMON SENSE \nLEARN\, GET INFORMED\, DECIDE FOR YOURSELF\nPUBLIC SCHOOLS ARE AT RISK \nMARCH 12\, 2014   7-9 pm\nWest Platte School\n1025 Washington\, Weston\, MO\n \nPRESENTERS\nDR. MARY BYRNE\, Ed D\nPAUL SCHWARTZ\, Data Analyst\nJILL CARTER\, Concerned Mother \nMARCH 12\, 2014\n7-9 PM\n\nFOR INITIAL QUESTIONS AND CONTACT INFO\nJIM DEJARNATT\n816-309-3395 cell      816-640-3188\n \n“The philosophy of the school room in one generation\nwill be the philosophy of government in the next.”\n– Abraham Lincoln
URL:https://www.platterepublicans.org/event/common-core-or-common-sense/
LOCATION:MO
CATEGORIES:Calendar
END:VEVENT
BEGIN:VEVENT
DTSTART;TZID=America/Chicago:20140314T173000
DTEND;TZID=America/Chicago:20140314T190000
DTSTAMP:20260420T023400
CREATED:20140310T025628Z
LAST-MODIFIED:20200708T225017Z
UID:9096-1394818200-1394823600@www.platterepublicans.org
SUMMARY:Ken Wilson Fundraiser
DESCRIPTION:Fundraiser event for Ken Wilson\, MO House District 12\n Friday\, March 14\, 2014  5:30-7:00 pm\nJowler Creek Vineyard and Winery (Map)\n\n16905 Jowler Creek Road\, Platte City MO 64079
URL:https://www.platterepublicans.org/event/ken-wilson-fundraiser/
LOCATION:MO
CATEGORIES:Calendar,Events,In The News
END:VEVENT
BEGIN:VEVENT
DTSTART;TZID=America/Chicago:20140321T190000
DTEND;TZID=America/Chicago:20140321T210000
DTSTAMP:20260420T023400
CREATED:20140102T211342Z
LAST-MODIFIED:20200708T225014Z
UID:9080-1395428400-1395435600@www.platterepublicans.org
SUMMARY:Third Friday Patriots
DESCRIPTION:Join us for food and fun every third Friday at \nHome of Abby & Bill Olson \n6223 Wall St.\, Kansas City\, MO 64151
URL:https://www.platterepublicans.org/event/third-friday-patriots-8/
LOCATION:MO
CATEGORIES:Calendar
END:VEVENT
BEGIN:VEVENT
DTSTART;TZID=America/Chicago:20140325T080000
DTEND;TZID=America/Chicago:20140325T170000
DTSTAMP:20260420T023400
CREATED:20140213T200258Z
LAST-MODIFIED:20200708T225017Z
UID:9094-1395734400-1395766800@www.platterepublicans.org
SUMMARY:Candidate Filing Closes
DESCRIPTION:
URL:https://www.platterepublicans.org/event/candidate-filing-closes/
LOCATION:MO
CATEGORIES:Calendar,Events
END:VEVENT
BEGIN:VEVENT
DTSTART;TZID=America/Chicago:20140327T180000
DTEND;TZID=America/Chicago:20140327T210000
DTSTAMP:20260420T023400
CREATED:20140325T155528Z
LAST-MODIFIED:20200708T225018Z
UID:9100-1395943200-1395954000@www.platterepublicans.org
SUMMARY:NW MO Republican Club Meeting
DESCRIPTION:Normal\n  0\n  \n  \n  \n  \n  false\n  false\n  false\n  \n  EN-US\n  X-NONE\n  X-NONE
URL:https://www.platterepublicans.org/event/nw-mo-republican-club-meeting/
LOCATION:MO
CATEGORIES:Calendar,Events
END:VEVENT
BEGIN:VEVENT
DTSTART;TZID=America/Chicago:20140330T180000
DTEND;TZID=America/Chicago:20140330T193000
DTSTAMP:20260420T023400
CREATED:20140318T143406Z
LAST-MODIFIED:20200708T225018Z
UID:9099-1396202400-1396207800@www.platterepublicans.org
SUMMARY:Ron Schieber for Commissioner Campaign Kick Off
DESCRIPTION:Please join us\nRon Schieber for Commissioner Campaign Kick Off \nHost:  Citizens for Ron Schieber\, Trish Herzog\, Treasurer  816-587-3342 \nWhen:  Sunday\, March 30 from 6:00 PM to 7:30 PM \nWhere:  The Coves Club House\, 8221 N Overland Drive\, KCMO 64151
URL:https://www.platterepublicans.org/event/ron-schieber-for-commissioner-campaign-kick-off/
LOCATION:MO
CATEGORIES:Calendar,Events
END:VEVENT
BEGIN:VEVENT
DTSTART;TZID=America/Chicago:20140331T190000
DTEND;TZID=America/Chicago:20140331T210000
DTSTAMP:20260420T023400
CREATED:20140328T203020Z
LAST-MODIFIED:20200708T225018Z
UID:9102-1396292400-1396299600@www.platterepublicans.org
SUMMARY:Final Planning Election Kickoff Event
DESCRIPTION:Final Planning Meeting \nPlease bring any money from ticket/ad/table sales.
URL:https://www.platterepublicans.org/event/final-planning-election-kickoff-event/
LOCATION:MO
CATEGORIES:Calendar
END:VEVENT
END:VCALENDAR