BEGIN:VCALENDAR
VERSION:2.0
PRODID:-//PlatteRepublicans.org - ECPv6.15.13.1//NONSGML v1.0//EN
CALSCALE:GREGORIAN
METHOD:PUBLISH
X-ORIGINAL-URL:https://www.platterepublicans.org
X-WR-CALDESC:Events for PlatteRepublicans.org
REFRESH-INTERVAL;VALUE=DURATION:PT1H
X-Robots-Tag:noindex
X-PUBLISHED-TTL:PT1H
BEGIN:VTIMEZONE
TZID:America/Chicago
BEGIN:DAYLIGHT
TZOFFSETFROM:-0600
TZOFFSETTO:-0500
TZNAME:CDT
DTSTART:20130310T080000
END:DAYLIGHT
BEGIN:STANDARD
TZOFFSETFROM:-0500
TZOFFSETTO:-0600
TZNAME:CST
DTSTART:20131103T070000
END:STANDARD
BEGIN:DAYLIGHT
TZOFFSETFROM:-0600
TZOFFSETTO:-0500
TZNAME:CDT
DTSTART:20140309T080000
END:DAYLIGHT
BEGIN:STANDARD
TZOFFSETFROM:-0500
TZOFFSETTO:-0600
TZNAME:CST
DTSTART:20141102T070000
END:STANDARD
BEGIN:DAYLIGHT
TZOFFSETFROM:-0600
TZOFFSETTO:-0500
TZNAME:CDT
DTSTART:20150308T080000
END:DAYLIGHT
BEGIN:STANDARD
TZOFFSETFROM:-0500
TZOFFSETTO:-0600
TZNAME:CST
DTSTART:20151101T070000
END:STANDARD
END:VTIMEZONE
BEGIN:VEVENT
DTSTART;VALUE=DATE:20140702
DTEND;VALUE=DATE:20140706
DTSTAMP:20260419T183331
CREATED:20140520T134652Z
LAST-MODIFIED:20200708T225019Z
UID:9107-1404259200-1404518400@www.platterepublicans.org
SUMMARY:Independence Day - Parkville Parade & Festival
DESCRIPTION:Meet many of the Republican candidates in the parade on July 4 – beginning at 10:00 am \nFor complete information click here.
URL:https://www.platterepublicans.org/event/independence-day-parkville-parade-festival/
LOCATION:MO
CATEGORIES:Calendar,Events
END:VEVENT
BEGIN:VEVENT
DTSTART;TZID=America/Chicago:20140703T173000
DTEND;TZID=America/Chicago:20140703T193000
DTSTAMP:20260419T183331
CREATED:20140619T200916Z
LAST-MODIFIED:20200708T225020Z
UID:9120-1404408600-1404415800@www.platterepublicans.org
SUMMARY:Pachyderm Monthly Meeting
DESCRIPTION:The July Pachyderm meeting is one you won’t want to miss!  Pachyderm is hosting the candidates for Platte County Presiding Commissioner for a debate. \nThe candidates will speak about their background and answer various questions from the audience. \nPlease join us to learn more about the candidates and where they stand on the important issues! \nThursday\, July 3rd.\nThe social begins at 5:30pm and\nthe program begins at 6:00pm. \nTiffany Greens Clubhouse\,\n5900 NW Tiffany Springs Parkway\,\nKansas City\, MO. Click here for a map. \nThe cost is $15 for members and $18 for non-members and includes appetizers and a drink!\nPlease feel free to bring friends.
URL:https://www.platterepublicans.org/event/pachyderm-monthly-meeting-6/
LOCATION:MO
CATEGORIES:Calendar
END:VEVENT
BEGIN:VEVENT
DTSTART;TZID=America/Chicago:20140704T100000
DTEND;TZID=America/Chicago:20140704T120000
DTSTAMP:20260419T183331
CREATED:20140619T202153Z
LAST-MODIFIED:20200708T225020Z
UID:9121-1404468000-1404475200@www.platterepublicans.org
SUMMARY:Parkville Parade
DESCRIPTION:Line up for the parade starts on 63rd Street at 9:30.
URL:https://www.platterepublicans.org/event/parkville-parade/
LOCATION:MO
CATEGORIES:Calendar
END:VEVENT
BEGIN:VEVENT
DTSTART;TZID=America/Chicago:20140707T190000
DTEND;TZID=America/Chicago:20140707T210000
DTSTAMP:20260419T183331
CREATED:20131125T032231Z
LAST-MODIFIED:20200708T225013Z
UID:9068-1404759600-1404766800@www.platterepublicans.org
SUMMARY:Platte County Republican Central Committee Meeting
DESCRIPTION:
URL:https://www.platterepublicans.org/event/platte-county-republican-central-committee-meeting-7/
LOCATION:MO
CATEGORIES:Calendar
END:VEVENT
BEGIN:VEVENT
DTSTART;VALUE=DATE:20140709
DTEND;VALUE=DATE:20140710
DTSTAMP:20260419T183331
CREATED:20140522T193355Z
LAST-MODIFIED:20200708T225020Z
UID:9112-1404864000-1404864000@www.platterepublicans.org
SUMMARY:Voter Registration Deadline for Aug Primary
DESCRIPTION:Last day to register to vote in the August Primary Election. \nRegister at City Halls\, Libraries and Schools.  Check this link for a complete list.
URL:https://www.platterepublicans.org/event/voter-registration-deadline-for-aug-primary/
LOCATION:MO
CATEGORIES:Calendar
END:VEVENT
BEGIN:VEVENT
DTSTART;TZID=America/Chicago:20140722T183000
DTEND;TZID=America/Chicago:20140722T200000
DTSTAMP:20260419T183331
CREATED:20140713T202931Z
LAST-MODIFIED:20200708T225020Z
UID:9123-1406053800-1406059200@www.platterepublicans.org
SUMMARY:ORCA Presents
DESCRIPTION:How Smart are YOU about SMART METERS? \n\n\n\n\nKELLY PASCUCCI from Columbia\, MO will share Facts about the Smart Meters currently being installed in our area by KCPL. \n\nLearn what this means for you\, why it is important and how you can prevent losing your analog meter. \n\n\nKelly has just returned from a trip to DC where she discussed this issue with our Representatives and Senators. She met with individuals from around the country\, many of whom shared their personal experiences with smart meters. \n\nPlease join us and invite your friends and family.\n\nPlatte County Community Center South (YMCA) 8875 Clark Ave.\, Parkville\, MO  64152\n\nThe Event is FREE but the information will be PRICELESS.\nWe will offer light refreshments.
URL:https://www.platterepublicans.org/event/orca-presents/
LOCATION:MO
CATEGORIES:Calendar,Events,In The News,Platte County GOP News
END:VEVENT
BEGIN:VEVENT
DTSTART;TZID=America/Chicago:20140729T160000
DTEND;TZID=America/Chicago:20140729T180000
DTSTAMP:20260419T183331
CREATED:20140717T202818Z
LAST-MODIFIED:20200708T225022Z
UID:9124-1406649600-1406656800@www.platterepublicans.org
SUMMARY:Chamber Meet Your Candidates
DESCRIPTION:
URL:https://www.platterepublicans.org/event/chamber-meet-your-candidates/
LOCATION:MO
CATEGORIES:Calendar
END:VEVENT
END:VCALENDAR