BEGIN:VCALENDAR
VERSION:2.0
PRODID:-//PlatteRepublicans.org - ECPv6.15.13.1//NONSGML v1.0//EN
CALSCALE:GREGORIAN
METHOD:PUBLISH
X-ORIGINAL-URL:https://www.platterepublicans.org
X-WR-CALDESC:Events for PlatteRepublicans.org
REFRESH-INTERVAL;VALUE=DURATION:PT1H
X-Robots-Tag:noindex
X-PUBLISHED-TTL:PT1H
BEGIN:VTIMEZONE
TZID:America/Chicago
BEGIN:DAYLIGHT
TZOFFSETFROM:-0600
TZOFFSETTO:-0500
TZNAME:CDT
DTSTART:20130310T080000
END:DAYLIGHT
BEGIN:STANDARD
TZOFFSETFROM:-0500
TZOFFSETTO:-0600
TZNAME:CST
DTSTART:20131103T070000
END:STANDARD
BEGIN:DAYLIGHT
TZOFFSETFROM:-0600
TZOFFSETTO:-0500
TZNAME:CDT
DTSTART:20140309T080000
END:DAYLIGHT
BEGIN:STANDARD
TZOFFSETFROM:-0500
TZOFFSETTO:-0600
TZNAME:CST
DTSTART:20141102T070000
END:STANDARD
BEGIN:DAYLIGHT
TZOFFSETFROM:-0600
TZOFFSETTO:-0500
TZNAME:CDT
DTSTART:20150308T080000
END:DAYLIGHT
BEGIN:STANDARD
TZOFFSETFROM:-0500
TZOFFSETTO:-0600
TZNAME:CST
DTSTART:20151101T070000
END:STANDARD
END:VTIMEZONE
BEGIN:VEVENT
DTSTART;TZID=America/Chicago:20140801T180000
DTEND;TZID=America/Chicago:20140801T220000
DTSTAMP:20260419T165226
CREATED:20140719T222856Z
LAST-MODIFIED:20200708T225022Z
UID:9126-1406916000-1406930400@www.platterepublicans.org
SUMMARY:Campaign Rally - Russ Wojtkiewicz
DESCRIPTION:Campaign Rally & Fish Fry Parkville VFW \nFree Will Donation
URL:https://www.platterepublicans.org/event/campaign-rally-russ-wojtkiewicz/
LOCATION:MO
CATEGORIES:Calendar
END:VEVENT
BEGIN:VEVENT
DTSTART;TZID=America/Chicago:20140804T100000
DTEND;TZID=America/Chicago:20140804T110000
DTSTAMP:20260419T165226
CREATED:20140801T151942Z
LAST-MODIFIED:20200708T225022Z
UID:9127-1407146400-1407150000@www.platterepublicans.org
SUMMARY:Commissioner Meeting
DESCRIPTION:Jail Committee will present findings to the Commissioners.
URL:https://www.platterepublicans.org/event/commissioner-meeting/
LOCATION:MO
CATEGORIES:Calendar
END:VEVENT
BEGIN:VEVENT
DTSTART;TZID=America/Chicago:20140804T190000
DTEND;TZID=America/Chicago:20140804T210000
DTSTAMP:20260419T165226
CREATED:20131125T032306Z
LAST-MODIFIED:20200708T225013Z
UID:9069-1407178800-1407186000@www.platterepublicans.org
SUMMARY:Platte County Republican Central Committee Meeting
DESCRIPTION:
URL:https://www.platterepublicans.org/event/platte-county-republican-central-committee-meeting-8/
LOCATION:MO
CATEGORIES:Calendar,Events
END:VEVENT
BEGIN:VEVENT
DTSTART;TZID=America/Chicago:20140805T060000
DTEND;TZID=America/Chicago:20140805T190000
DTSTAMP:20260419T165226
CREATED:20131125T032412Z
LAST-MODIFIED:20200708T225013Z
UID:9070-1407218400-1407265200@www.platterepublicans.org
SUMMARY:Primary Election Day
DESCRIPTION:
URL:https://www.platterepublicans.org/event/primary-election-day-2/
LOCATION:MO
CATEGORIES:Calendar
END:VEVENT
BEGIN:VEVENT
DTSTART;TZID=America/Chicago:20140805T190000
DTEND;TZID=America/Chicago:20140805T220000
DTSTAMP:20260419T165226
CREATED:20140719T222336Z
LAST-MODIFIED:20200708T225022Z
UID:9125-1407265200-1407276000@www.platterepublicans.org
SUMMARY:Russ "Wojo" Watch Party
DESCRIPTION:Join Russ and friends at Al’s Bar\n10911 NW Highway 45 Parkville\, MO 64152  816-741-6500
URL:https://www.platterepublicans.org/event/russ-wojo-watch-party/
LOCATION:MO
CATEGORIES:Calendar
END:VEVENT
BEGIN:VEVENT
DTSTART;TZID=America/Chicago:20140807T173000
DTEND;TZID=America/Chicago:20140807T193000
DTSTAMP:20260419T165226
CREATED:20140619T204103Z
LAST-MODIFIED:20200708T225020Z
UID:9122-1407432600-1407439800@www.platterepublicans.org
SUMMARY:Pachyderm Monthly Meeting
DESCRIPTION:
URL:https://www.platterepublicans.org/event/pachyderm-monthly-meeting-7/
LOCATION:MO
CATEGORIES:Calendar
END:VEVENT
BEGIN:VEVENT
DTSTART;VALUE=DATE:20140808
DTEND;VALUE=DATE:20140819
DTSTAMP:20260419T165226
CREATED:20140520T141232Z
LAST-MODIFIED:20200708T225019Z
UID:9110-1407456000-1408320000@www.platterepublicans.org
SUMMARY:Missouri State Fair 8/8-8/18
DESCRIPTION:Republicans will have a booth at the MO State Fair again this year.
URL:https://www.platterepublicans.org/event/missouri-state-fair-8-8-8-18-2/
LOCATION:MO
CATEGORIES:Calendar
END:VEVENT
BEGIN:VEVENT
DTSTART;TZID=America/Chicago:20140819T190000
DTEND;TZID=America/Chicago:20140819T200000
DTSTAMP:20260419T165226
CREATED:20140801T152548Z
LAST-MODIFIED:20200708T225022Z
UID:9128-1408474800-1408478400@www.platterepublicans.org
SUMMARY:Central Committee Reorganization
DESCRIPTION:The duly elected members of each county committee shall select a Chairman and Vice Chairman (one man and one woman who must be members of the committee) & Treasurer and Secretary (one man and one woman who may or may not be members of the committee) as the first order of business.  \n \nAfter officers are elected\, committee members may vote to fill any vacancies on the committee.
URL:https://www.platterepublicans.org/event/central-committee-reorganization/
LOCATION:MO
CATEGORIES:Calendar
END:VEVENT
BEGIN:VEVENT
DTSTART;TZID=America/Chicago:20140825T120000
DTEND;TZID=America/Chicago:20140825T130000
DTSTAMP:20260419T165226
CREATED:20140820T152332Z
LAST-MODIFIED:20200708T225022Z
UID:9131-1408968000-1408971600@www.platterepublicans.org
SUMMARY:Fundraiser Lunch With Congressman Sam Graves
DESCRIPTION:FUNDRAISER Lunch with Congressman Sam Graves\nto support KEVIN CORLEW for State Representative\nMonday\, August 25\, 2014  12 Noon – 1 pm\nPrimrose Retirement Community\n8559 N Line Creek Pkwy.\nKansas City MO  64154\nPlease make checks payable to :  Citizens for Kevin Corlew\nMore information on KevinCorlew.com
URL:https://www.platterepublicans.org/event/fundraiser-lunch-with-congressman-sam-graves/
LOCATION:MO
CATEGORIES:Calendar
END:VEVENT
BEGIN:VEVENT
DTSTART;TZID=America/Chicago:20140826T183000
DTEND;TZID=America/Chicago:20140826T203000
DTSTAMP:20260419T165226
CREATED:20140811T150723Z
LAST-MODIFIED:20200708T225022Z
UID:9129-1409077800-1409085000@www.platterepublicans.org
SUMMARY:ORCA Presents - Agenda: Grinding America Down
DESCRIPTION:Join ORCA to view the documentary: \nAgenda: Grinding America Down \nThe event is Free and light refreshments will be served.
URL:https://www.platterepublicans.org/event/orca-presents-agenda-grinding-america-down/
LOCATION:MO
CATEGORIES:Calendar
END:VEVENT
BEGIN:VEVENT
DTSTART;TZID=America/Chicago:20140826T183000
DTEND;TZID=America/Chicago:20140826T203000
DTSTAMP:20260419T165226
CREATED:20140826T181211Z
LAST-MODIFIED:20200708T225023Z
UID:9142-1409077800-1409085000@www.platterepublicans.org
SUMMARY:6th Congressional District Reorganization Meeting
DESCRIPTION:The Party Reorganization of the 6th Congressional District Republican Committee will take place at the 1st Cameron State Bank in Cameron MO on Tuesday 26 August 2014 at 6:30 p.m.  Voting members of the committee are the newly elected Chairs and Vice Chairs of each County within the 6th Congressional District\, and the Chairs and Vice Chairs of the newly elected Legislative Districts.
URL:https://www.platterepublicans.org/event/6th-congressional-district-reorganization-meeting-2/
LOCATION:MO
CATEGORIES:Calendar,In The News
END:VEVENT
BEGIN:VEVENT
DTSTART;TZID=America/Chicago:20140828T180000
DTEND;TZID=America/Chicago:20140828T200000
DTSTAMP:20260419T165226
CREATED:20140826T133253Z
LAST-MODIFIED:20200708T225023Z
UID:9138-1409248800-1409256000@www.platterepublicans.org
SUMMARY:Parkville Legislative Forum
DESCRIPTION:The following taken directly from Parkville MO website: \n“A legislative forum hosted by the Parkville Area Chamber of Commerce and the League of Women’s Voters will take place Thursday\, August 28th in the City Hall Board Room.  Local panelists will answer preselected questions on a number of topics. The event will be moderated by the League of Women Voters. \nThere will be light refreshments/networking at 6 p.m. followed by the forum at 6:30 p.m.” \nhttp://parkvillemo.gov/city-news/legislative-forum-hosted-pacc-lwv/ \nSchedule of Events:  http://parkvillemo.gov/assets/uploads/2014/08/2014-Legislative-Program.pdf
URL:https://www.platterepublicans.org/event/parkville-legislative-forum/
LOCATION:MO
CATEGORIES:Calendar
END:VEVENT
BEGIN:VEVENT
DTSTART;TZID=America/Chicago:20140828T190000
DTEND;TZID=America/Chicago:20140828T200000
DTSTAMP:20260419T165226
CREATED:20140826T132852Z
LAST-MODIFIED:20200708T225023Z
UID:9137-1409252400-1409256000@www.platterepublicans.org
SUMMARY:Park Hill Levy Hearing
DESCRIPTION:Park Hill Levy Hearing \nDistrict Office:  7703 NW Barry Road – Kansas City\, MO 64153 – (816) 359-4000
URL:https://www.platterepublicans.org/event/park-hill-levy-hearing/
LOCATION:MO
CATEGORIES:Calendar
END:VEVENT
END:VCALENDAR