BEGIN:VCALENDAR
VERSION:2.0
PRODID:-//PlatteRepublicans.org - ECPv6.15.13.1//NONSGML v1.0//EN
CALSCALE:GREGORIAN
METHOD:PUBLISH
X-ORIGINAL-URL:https://www.platterepublicans.org
X-WR-CALDESC:Events for PlatteRepublicans.org
REFRESH-INTERVAL;VALUE=DURATION:PT1H
X-Robots-Tag:noindex
X-PUBLISHED-TTL:PT1H
BEGIN:VTIMEZONE
TZID:America/Chicago
BEGIN:DAYLIGHT
TZOFFSETFROM:-0600
TZOFFSETTO:-0500
TZNAME:CDT
DTSTART:20140309T080000
END:DAYLIGHT
BEGIN:STANDARD
TZOFFSETFROM:-0500
TZOFFSETTO:-0600
TZNAME:CST
DTSTART:20141102T070000
END:STANDARD
BEGIN:DAYLIGHT
TZOFFSETFROM:-0600
TZOFFSETTO:-0500
TZNAME:CDT
DTSTART:20150308T080000
END:DAYLIGHT
BEGIN:STANDARD
TZOFFSETFROM:-0500
TZOFFSETTO:-0600
TZNAME:CST
DTSTART:20151101T070000
END:STANDARD
BEGIN:DAYLIGHT
TZOFFSETFROM:-0600
TZOFFSETTO:-0500
TZNAME:CDT
DTSTART:20160313T080000
END:DAYLIGHT
BEGIN:STANDARD
TZOFFSETFROM:-0500
TZOFFSETTO:-0600
TZNAME:CST
DTSTART:20161106T070000
END:STANDARD
END:VTIMEZONE
BEGIN:VEVENT
DTSTART;TZID=America/Chicago:20150207T190000
DTEND;TZID=America/Chicago:20150207T220000
DTSTAMP:20260419T073232
CREATED:20150203T171542Z
LAST-MODIFIED:20200708T225030Z
UID:9185-1423335600-1423346400@www.platterepublicans.org
SUMMARY:The Greater KC Civics Bowl
DESCRIPTION:The Greater KC \nCivics Bowl\nwith Quizmaster Jack Cashill\nSaturday\, February 7  7 -10 pm\nVFW Post 7356\n10125 Tom Watson Parkway  \nParkville\, MO 64152\nThis high-level table quiz will test your team’s knowledge in all\nsubjects civic and cultural: history\, current events\, religion\,\nbooks\, movies\, sports — you name it.\nIt pays to diversify your team by age and gender.\nThe team concept makes for a low-stress\, high-powered evening.\n$200 entry fee for team of up to 8 players\n$25 entry for individuals who will be placed on teams\nRegister at www.greendragons.org
URL:https://www.platterepublicans.org/event/the-greater-kc-civics-bowl/
LOCATION:MO
CATEGORIES:Calendar
END:VEVENT
BEGIN:VEVENT
DTSTART;TZID=America/Chicago:20150220T120000
DTEND;TZID=America/Chicago:20150220T220000
DTSTAMP:20260419T073232
CREATED:20141116T144219Z
LAST-MODIFIED:20200708T225029Z
UID:9176-1424433600-1424469600@www.platterepublicans.org
SUMMARY:ReaganLincolnDays2015
DESCRIPTION:Don’t Miss Event in Kansas City this year.  Downtown Kansas City Marriott. \nCheck back frequently as details are finalized.  ReaganLincolnDays \nPlease join us!
URL:https://www.platterepublicans.org/event/reaganlincolndays2015/
LOCATION:MO
CATEGORIES:Calendar
END:VEVENT
BEGIN:VEVENT
DTSTART;TZID=America/Chicago:20150221T070000
DTEND;TZID=America/Chicago:20150221T220000
DTSTAMP:20260419T073232
CREATED:20141116T144821Z
LAST-MODIFIED:20200708T225029Z
UID:9177-1424502000-1424556000@www.platterepublicans.org
SUMMARY:ReaganLincolnDays2015
DESCRIPTION:Don’t Miss Event in Kansas City this year.  Downtown Kansas City Marriott. \nCheck back frequently as details are finalized.  ReaganLincolnDays \nPlease join us!
URL:https://www.platterepublicans.org/event/reaganlincolndays2015-2/
LOCATION:MO
CATEGORIES:Calendar
END:VEVENT
BEGIN:VEVENT
DTSTART;TZID=America/Chicago:20150222T080000
DTEND;TZID=America/Chicago:20150222T110000
DTSTAMP:20260419T073232
CREATED:20141116T145140Z
LAST-MODIFIED:20200708T225029Z
UID:9178-1424592000-1424602800@www.platterepublicans.org
SUMMARY:ReaganLincolnDays2015
DESCRIPTION:Don’t Miss Event in Kansas City this year.  Downtown Kansas City Marriott. \nCheck back frequently as details are finalized.  ReaganLincolnDays \nPlease join us!
URL:https://www.platterepublicans.org/event/reaganlincolndays2015-3/
LOCATION:MO
CATEGORIES:Calendar
END:VEVENT
BEGIN:VEVENT
DTSTART;TZID=America/Chicago:20150224T183000
DTEND;TZID=America/Chicago:20150224T203000
DTSTAMP:20260419T073232
CREATED:20150211T025155Z
LAST-MODIFIED:20200708T225030Z
UID:9186-1424802600-1424809800@www.platterepublicans.org
SUMMARY:OCRA - Learn To Use Twitter
DESCRIPTION:We are having Rachel Payton from Americans for Prosperity at our Feb.24th Meeting.\nIt is very important that we learn new methods on how to get out the message on issues. \nTwitter is a social media that many of us shy away from because we are not sure how to use it.\n\n\n\nThis Event is FREE but the information is PRICELESS \n\nLight refreshments will be served. \nLet’s be prepared! Join us and invite friends and family as well.\nSo show up \, listen and learn! \nThanks\, Theresa Emerson 816-880-4642
URL:https://www.platterepublicans.org/event/ocra-learn-to-use-twitter/
LOCATION:MO
CATEGORIES:Calendar,Events,In The News,News
END:VEVENT
END:VCALENDAR